BEGIN:VCALENDAR
VERSION:2.0
PRODID:-//hacksw/handcal//NONSGML v1.0//EN
BEGIN:VEVENT
DTSTART:20191129T093000
DTEND:20191129T150000
LOCATION:Centre VALEO Vision \n34, rue St André \n93000 Bobigny
ORGANIZER;CN=Olivier LETINAUD - Automobile:MAILTO:olivier.letinaud@mpsa.com
SUMMARY:Visite du centre Valéo Vision  -  Bobigny
DESCRIPTION:Le groupement Centrale Automobile vous invite à la visite du centre Valeo Vision Bobigny. Valeo est un équipementier automobile, leader mondial dans les révolutions actuelles que sont...
URL:https://www.centraliens-lille.org/en/group/automobile/293/calendar/visite-du-centre-valeo-vision-bobigny/2019/11/29/1846
BEGIN:VALARM
TRIGGER:-P0DT1H0M0S
ACTION:DISPLAY
END:VALARM
END:VEVENT
END:VCALENDAR