BEGIN:VCALENDAR
VERSION:2.0
PRODID:-//hacksw/handcal//NONSGML v1.0//EN
BEGIN:VEVENT
DTSTART:20221016T123000
DTEND:20221016T160000
LOCATION:Musée La Piscine \n23, rue de l’Espérance  \n59100 ROUBAIX
ORGANIZER;CN=Eric DEVAUX - Hauts-de-France:MAILTO:eric.devaux@laposte.net
SUMMARY:Repas puis visite guidée au musée de la Piscine
DESCRIPTION:BonjourLe groupe Hauts-de-France fait sa rentrée culturelle et gourmande en proposant une visite guidée d'une heure au musée de la Piscine à Roubaix, à partir de 14 h 45, sur le thème du...
URL:https://www.centraliens-lille.org/en/group/hauts-de-france/123/calendar/repas-puis-visite-guidee-au-musee-de-la-piscine/2022/10/16/3052
BEGIN:VALARM
TRIGGER:-P0DT1H0M0S
ACTION:DISPLAY
END:VALARM
END:VEVENT
END:VCALENDAR