BEGIN:VCALENDAR
VERSION:2.0
PRODID:-//hacksw/handcal//NONSGML v1.0//EN
BEGIN:VEVENT
DTSTART:20250327T183000
DTEND:20250327T220000
LOCATION:Restaurant Le Bouquet \n192 Bd Victor Hugo \n59000 Lille
ORGANIZER;CN=Gaëlle CORNART:MAILTO:gaelle.cornart@centralienslille.onmicrosoft.com
SUMMARY:Afterwork Centraliens et Supelec à Lille
DESCRIPTION:Viens réseauter dans la convivialité !\nLes associations centraliennes et Supelec en région Lilloise ont le plaisir de t’inviter à un afterwork pour se rencontrer, garder le contact et échanger en...
URL:https://www.centraliens-lille.org/en/event/afterwork-centraliens-et-supelec-a-lille/2025/03/27/4631
BEGIN:VALARM
TRIGGER:-P0DT1H0M0S
ACTION:DISPLAY
END:VALARM
END:VEVENT
END:VCALENDAR