BEGIN:VCALENDAR
VERSION:2.0
PRODID:-//hacksw/handcal//NONSGML v1.0//EN
BEGIN:VEVENT
DTSTART:20250611T183000
DTEND:20250611T203000
LOCATION:
ORGANIZER;CN=Gaëlle CORNART:MAILTO:gaelle.cornart@centralienslille.onmicrosoft.com
SUMMARY:Webinaire : Les flexibilités au service du réseau électrique : levier de la transition énergétique
DESCRIPTION:* Webinaire * du Groupe ProfessionnelCentrale-Energies mardi 11 juin 2025 de 18h30 à 20h30\n    Les flexibilités au service du réseau électrique : levier de la transition énergétique  Le réseau...
URL:https://www.centraliens-lille.org/en/event/webinaire-les-flexibilites-au-service-du-reseau-electrique-levier-de-la-transition-energetique/2025/06/11/4769
BEGIN:VALARM
TRIGGER:-P0DT1H0M0S
ACTION:DISPLAY
END:VALARM
END:VEVENT
END:VCALENDAR