BEGIN:VCALENDAR
VERSION:2.0
PRODID:-//hacksw/handcal//NONSGML v1.0//EN
BEGIN:VEVENT
DTSTART:20260422T160000Z
DTEND:20260422T190000Z
LOCATION:IESF \n7 rue Lamennais \n75008 Paris
ORGANIZER;CN=Gaëlle CORNART:MAILTO:gaelle.cornart@centralienslille.onmicrosoft.com
SUMMARY:Conférence (gratuite) : Comment le numérique change nos entreprises, notre civilisation, nos valeurs.
DESCRIPTION:Comment le numérique change nos entreprises, notre civilisation, nos valeursConférence (gratuite) autour du livre de Michel VolleVALEURS et CIVILISATIONMercredi 22 avril 2026 18 heures à Paris...
URL:https://www.centraliens-lille.org/en/event/conference-gratuite-comment-le-numerique-change-nos-entreprises-notre-civilisation-nos-valeurs/2026/04/22/5379
BEGIN:VALARM
TRIGGER:-P0DT1H0M0S
ACTION:DISPLAY
END:VALARM
END:VEVENT
END:VCALENDAR