BEGIN:VCALENDAR
VERSION:2.0
PRODID:-//hacksw/handcal//NONSGML v1.0//EN
BEGIN:VEVENT
DTSTART:20231211T183000
DTEND:20231211T204500
LOCATION:Hôtel d'Iéna \n9bis Av. d'Iéna \n75116 Paris
ORGANIZER;CN=Gaëlle CORNART:MAILTO:gaelle.cornart@centralienslille.onmicrosoft.com
SUMMARY:Catherine MacGregor DG de ENGIE : L’alliance de la molécule et de l’électron pour accélérer une croissance durable
DESCRIPTION:ENGIE, acteur mondial dans le secteur de l'énergie, est en première ligne pour accélérer la transition énergétique. Son objectif, au cœur de sa stratégie et de sa raison d’être, est de la rendre...
URL:https://www.centraliens-lille.org/fr/event/catherine-macgregor-dg-de-engie-l-alliance-de-la-molecule-et-de-l-electron-pour-accelerer-une-croissance-durable/2023/12/11/3693
BEGIN:VALARM
TRIGGER:-P0DT1H0M0S
ACTION:DISPLAY
END:VALARM
END:VEVENT
END:VCALENDAR