BEGIN:VCALENDAR
VERSION:2.0
PRODID:-//hacksw/handcal//NONSGML v1.0//EN
BEGIN:VEVENT
DTSTART:20251004T080000Z
DTEND:20251004T143000Z
LOCATION:Auberge de la Forêt \n276 rue de Verriers \n57560 ABRESCHVILLER
ORGANIZER;CN=Gaëlle CORNART:MAILTO:gaelle.cornart@centralienslille.onmicrosoft.com
SUMMARY:Réunion annuelle de la Coordination Est
DESCRIPTION:Cher(e) Camarade, Cette année, la réunion annuelle de la Coordination Est aura lieu dans la région de Sarrebourg, en Moselle.Le samedi 4 octobre 2025A partir de 10 heuresA l’Auberge de la Forêt276 rue...
URL:https://www.centraliens-lille.org/fr/event/reunion-annuelle-de-la-coordination-est/2025/10/04/4893
BEGIN:VALARM
TRIGGER:-P0DT1H0M0S
ACTION:DISPLAY
END:VALARM
END:VEVENT
END:VCALENDAR