BEGIN:VCALENDAR
VERSION:2.0
PRODID:-//hacksw/handcal//NONSGML v1.0//EN
BEGIN:VEVENT
DTSTART:20260427T170000Z
DTEND:20260427T190000Z
LOCATION:Hôtel des Arts et Métiers - Salon la Rochefoucauld \n9 place d'Iena \n75016 Paris
ORGANIZER;CN=Gaëlle CORNART:MAILTO:gaelle.cornart@centralienslille.onmicrosoft.com
SUMMARY:Conférence spectacle « La portance d'être SOI »
DESCRIPTION:\nConférence spectacle La portance d'être SOI\nUne invitation à s'interroger sur sa place et à oser la prendre Lundi 27 avril 2026\nde 19 h à 21 h\nSalle la RochefoucauldHôtel Iéna & en...
URL:https://www.centraliens-lille.org/fr/event/conference-spectacle-la-portance-d-etre-soi/2026/04/27/5336
BEGIN:VALARM
TRIGGER:-P0DT1H0M0S
ACTION:DISPLAY
END:VALARM
END:VEVENT
END:VCALENDAR